BEGIN:VCALENDAR
VERSION:2.0
PRODID:-//Nazareth Lutheran Church South Brisbane Qld - ECPv6.8.1//NONSGML v1.0//EN
CALSCALE:GREGORIAN
METHOD:PUBLISH
X-ORIGINAL-URL:https://nazarethlutheran.org.au
X-WR-CALDESC:Events for Nazareth Lutheran Church South Brisbane Qld
REFRESH-INTERVAL;VALUE=DURATION:PT1H
X-Robots-Tag:noindex
X-PUBLISHED-TTL:PT1H
BEGIN:VTIMEZONE
TZID:Australia/Brisbane
BEGIN:STANDARD
TZOFFSETFROM:+1000
TZOFFSETTO:+1000
TZNAME:AEST
DTSTART:20260101T000000
END:STANDARD
END:VTIMEZONE
BEGIN:VEVENT
DTSTART;TZID=Australia/Brisbane:20260211T134500
DTEND;TZID=Australia/Brisbane:20260211T144500
DTSTAMP:20260425T072108
CREATED:20260129T055259Z
LAST-MODIFIED:20260322T234956Z
UID:10002092-1770817500-1770821100@nazarethlutheran.org.au
SUMMARY:Wednesday Bible Study with Pastor Chris
DESCRIPTION:Join Pastor Chris at 1:45pm each Wednesday in the Vestry (in the Admin building behind our Church) for Bible Study. \nWhen you arrive you’ll be welcomed and invited to help yourself to a coffee or tea – then relax and enjoy fellowship with a friendly group of like minded people. \nAges range from 30-70ish. All welcome! \nFebruary 2026-Mid-December 2026. \nKeep your eye on our events diary and our weekly Bulletin (contact us to get on the email list)\, for times when Bible Study is paused (including when Pastor is at Synod and annual Pastor Conference). \nIf you’d like to talk with someone before attending\, just call our office – Rachel is happy to answer your questions and put you in touch with Pastor Chris.
URL:https://nazarethlutheran.org.au/event/wednesday-bible-study-with-pastor-chris/2026-02-11/
LOCATION:Vestry (Admin building)\, 12 Hawthorne Street\, Woolloongabba\, Queensland\, 4102\, Australia
CATEGORIES:Bible study
ORGANIZER;CN="Nazareth Lutheran Church":MAILTO:office@nazarethlutheran.org.au
GEO:-27.488695;153.0347074
X-APPLE-STRUCTURED-LOCATION;VALUE=URI;X-ADDRESS=Vestry (Admin building) 12 Hawthorne Street Woolloongabba Queensland 4102 Australia;X-APPLE-RADIUS=500;X-TITLE=12 Hawthorne Street:geo:153.0347074,-27.488695
END:VEVENT
BEGIN:VEVENT
DTSTART;TZID=Australia/Brisbane:20260212T173000
DTEND;TZID=Australia/Brisbane:20260212T183000
DTSTAMP:20260425T072108
CREATED:20260129T060420Z
LAST-MODIFIED:20260129T060420Z
UID:10002149-1770917400-1770921000@nazarethlutheran.org.au
SUMMARY:Yoga with Lyn - Classes Thursdays 5:30pm\, Nazareth Hall
DESCRIPTION:Weekly yoga classes starting  in Nazareth Hall from Thursday 5th February\, 5:30pm-6:30pm. $15 per person. \nThis yoga class is not hosted by Nazareth although a number of our congregation ladies attend \nBookings: Please contact Lyn\, the yoga teacher\, on 0401 208 652. All welcome! \nSee more info below:
URL:https://nazarethlutheran.org.au/event/yoga-with-lyn-classes-thursdays-530pm-nazareth-hall/2026-02-12/
LOCATION:Nazareth Hall (downstairs)\, 12 Hawthorne Street\, Woolloongabba\, Queensland\, 4102\, Australia
CATEGORIES:Activities,Social Events
ORGANIZER;CN="Lyn Comiskey":MAILTO:lyn.comiskey@hotmail.com
GEO:-27.488695;153.0347074
X-APPLE-STRUCTURED-LOCATION;VALUE=URI;X-ADDRESS=Nazareth Hall (downstairs) 12 Hawthorne Street Woolloongabba Queensland 4102 Australia;X-APPLE-RADIUS=500;X-TITLE=12 Hawthorne Street:geo:153.0347074,-27.488695
END:VEVENT
BEGIN:VEVENT
DTSTART;TZID=Australia/Brisbane:20260213T103000
DTEND;TZID=Australia/Brisbane:20260213T113000
DTSTAMP:20260425T072108
CREATED:20230316T064828Z
LAST-MODIFIED:20230418T231523Z
UID:10001509-1770978600-1770982200@nazarethlutheran.org.au
SUMMARY:NazCare Worship
DESCRIPTION:This is a private worship conducted by Pastor Chris and a Nazareth Elder\, for residents at Nazcare.
URL:https://nazarethlutheran.org.au/event/nazcare-worship/2026-02-13/
LOCATION:NazCare\, 23 Hawthorne Street\, Woolloongabba\, Qld\, Australia
CATEGORIES:Worship
ORGANIZER;CN="Nazareth Lutheran Church":MAILTO:office@nazarethlutheran.org.au
GEO:-27.4879729;153.0343353
X-APPLE-STRUCTURED-LOCATION;VALUE=URI;X-ADDRESS=NazCare 23 Hawthorne Street Woolloongabba Qld Australia;X-APPLE-RADIUS=500;X-TITLE=23 Hawthorne Street:geo:153.0343353,-27.4879729
END:VEVENT
BEGIN:VEVENT
DTSTART;TZID=Australia/Brisbane:20260215T083000
DTEND;TZID=Australia/Brisbane:20260215T100000
DTSTAMP:20260425T072108
CREATED:20230411T041338Z
LAST-MODIFIED:20240502T044919Z
UID:10001309-1771144200-1771149600@nazarethlutheran.org.au
SUMMARY:Worship with Holy Communion
DESCRIPTION:Sunday Worship is 8:30am every Sunday at our beautiful church\, 12 Hawthorne Street\, Woolloongabba.\n\n\nOur Holy Communion services are the first and the third Sunday of each month.\n\n\nWe’re a family friendly and welcoming Church – our friendly ushers will help you feel at home.\n\n\n\nInquiries always welcome.\n\n\n\nCome along to sing and worship with us and enjoy fellowship refreshments afterwards!\n\nGrace and Peace.
URL:https://nazarethlutheran.org.au/event/worship-with-holy-communion-2/2026-02-15/
LOCATION:Nazareth Lutheran Church\, 12 Hawthorne Street\, Woolloongabba\, Queensland\, 4102\, Australia
CATEGORIES:Worship
ORGANIZER;CN="Nazareth Lutheran Church":MAILTO:office@nazarethlutheran.org.au
GEO:-27.488695;153.0347074
X-APPLE-STRUCTURED-LOCATION;VALUE=URI;X-ADDRESS=Nazareth Lutheran Church 12 Hawthorne Street Woolloongabba Queensland 4102 Australia;X-APPLE-RADIUS=500;X-TITLE=12 Hawthorne Street:geo:153.0347074,-27.488695
END:VEVENT
END:VCALENDAR