BEGIN:VCALENDAR
VERSION:2.0
PRODID:-//Nazareth Lutheran Church South Brisbane Qld - ECPv6.8.1//NONSGML v1.0//EN
CALSCALE:GREGORIAN
METHOD:PUBLISH
X-WR-CALNAME:Nazareth Lutheran Church South Brisbane Qld
X-ORIGINAL-URL:https://nazarethlutheran.org.au
X-WR-CALDESC:Events for Nazareth Lutheran Church South Brisbane Qld
REFRESH-INTERVAL;VALUE=DURATION:PT1H
X-Robots-Tag:noindex
X-PUBLISHED-TTL:PT1H
BEGIN:VTIMEZONE
TZID:Australia/Brisbane
BEGIN:STANDARD
TZOFFSETFROM:+1000
TZOFFSETTO:+1000
TZNAME:AEST
DTSTART:20260101T000000
END:STANDARD
END:VTIMEZONE
BEGIN:VEVENT
DTSTART;TZID=Australia/Brisbane:20260225T190000
DTEND;TZID=Australia/Brisbane:20260225T194500
DTSTAMP:20260424T215730
CREATED:20260129T061503Z
LAST-MODIFIED:20260129T061503Z
UID:10002157-1772046000-1772048700@nazarethlutheran.org.au
SUMMARY:Lenten Evening Services beginning on Ash Wednesday 18th February 2026
DESCRIPTION:Lenten services will begin with our Ash Wednesday service on February 18th at 7pm in our Church\, 12 Hawthorne Street\, Woolloongabba. \nParking available. \nMore details about our Lenten Journey to come soon!
URL:https://nazarethlutheran.org.au/event/lenten-evening-services-beginning-on-ash-wednesday-18th-february-2026/2026-02-25/
LOCATION:Nazareth Lutheran Church\, 12 Hawthorne Street\, Woolloongabba\, Queensland\, 4102\, Australia
CATEGORIES:Worship
ORGANIZER;CN="Nazareth Lutheran Church":MAILTO:office@nazarethlutheran.org.au
GEO:-27.488695;153.0347074
X-APPLE-STRUCTURED-LOCATION;VALUE=URI;X-ADDRESS=Nazareth Lutheran Church 12 Hawthorne Street Woolloongabba Queensland 4102 Australia;X-APPLE-RADIUS=500;X-TITLE=12 Hawthorne Street:geo:153.0347074,-27.488695
END:VEVENT
END:VCALENDAR