BEGIN:VCALENDAR
VERSION:2.0
PRODID:-//Nazareth Lutheran Church South Brisbane Qld - ECPv6.8.1//NONSGML v1.0//EN
CALSCALE:GREGORIAN
METHOD:PUBLISH
X-WR-CALNAME:Nazareth Lutheran Church South Brisbane Qld
X-ORIGINAL-URL:https://nazarethlutheran.org.au
X-WR-CALDESC:Events for Nazareth Lutheran Church South Brisbane Qld
REFRESH-INTERVAL;VALUE=DURATION:PT1H
X-Robots-Tag:noindex
X-PUBLISHED-TTL:PT1H
BEGIN:VTIMEZONE
TZID:Australia/Brisbane
BEGIN:STANDARD
TZOFFSETFROM:+1000
TZOFFSETTO:+1000
TZNAME:AEST
DTSTART:20300101T000000
END:STANDARD
END:VTIMEZONE
BEGIN:VEVENT
DTSTART;TZID=Australia/Brisbane:20300707T083000
DTEND;TZID=Australia/Brisbane:20300707T100000
DTSTAMP:20260423T213128
CREATED:20230925T063537Z
LAST-MODIFIED:20230925T063537Z
UID:10002056-1909643400-1909648800@nazarethlutheran.org.au
SUMMARY:Worship with Holy Communion
DESCRIPTION:Sunday Worship is 8:30am every Sunday at our beautiful church\, 12 Hawthorne Street\, Woolloongabba.\n\n\nOur Holy Communion services are the first and the third Sunday of each month.\n\n\nWe’re a family friendly and welcoming Church – our friendly ushers will help you feel at home.\n\n\n\nInquiries always welcome.\n\n\n\nCome along to sing and worship with us and enjoy fellowship refreshments afterwards!\n\nGrace and Peace.
URL:https://nazarethlutheran.org.au/event/worship-with-holy-communion/2030-07-07/
LOCATION:Nazareth Lutheran Church\, 12 Hawthorne Street\, Woolloongabba\, Queensland\, 4102\, Australia
CATEGORIES:Worship
ORGANIZER;CN="Nazareth Lutheran Church":MAILTO:office@nazarethlutheran.org.au
GEO:-27.488695;153.0347074
X-APPLE-STRUCTURED-LOCATION;VALUE=URI;X-ADDRESS=Nazareth Lutheran Church 12 Hawthorne Street Woolloongabba Queensland 4102 Australia;X-APPLE-RADIUS=500;X-TITLE=12 Hawthorne Street:geo:153.0347074,-27.488695
END:VEVENT
BEGIN:VEVENT
DTSTART;TZID=Australia/Brisbane:20300712T103000
DTEND;TZID=Australia/Brisbane:20300712T113000
DTSTAMP:20260423T213128
CREATED:20230316T064828Z
LAST-MODIFIED:20230418T231523Z
UID:10002040-1910082600-1910086200@nazarethlutheran.org.au
SUMMARY:NazCare Worship
DESCRIPTION:This is a private worship conducted by Pastor Chris and a Nazareth Elder\, for residents at Nazcare.
URL:https://nazarethlutheran.org.au/event/nazcare-worship/2030-07-12/
LOCATION:NazCare\, 23 Hawthorne Street\, Woolloongabba\, Qld\, Australia
CATEGORIES:Worship
ORGANIZER;CN="Nazareth Lutheran Church":MAILTO:office@nazarethlutheran.org.au
GEO:-27.4879729;153.0343353
X-APPLE-STRUCTURED-LOCATION;VALUE=URI;X-ADDRESS=NazCare 23 Hawthorne Street Woolloongabba Qld Australia;X-APPLE-RADIUS=500;X-TITLE=23 Hawthorne Street:geo:153.0343353,-27.4879729
END:VEVENT
BEGIN:VEVENT
DTSTART;TZID=Australia/Brisbane:20300714T083000
DTEND;TZID=Australia/Brisbane:20300714T100000
DTSTAMP:20260423T213128
CREATED:20230223T055139Z
LAST-MODIFIED:20230418T231332Z
UID:10002064-1910248200-1910253600@nazarethlutheran.org.au
SUMMARY:Worship without Holy Communion
DESCRIPTION:Sunday Worship is 8:30am\, 12 Hawthorne Street\, Woolloongabba\, followed by morning tea/fellowship. All are welcome.\n\n\n\nWe’re a family friendly and welcoming Church – our friendly ushers will help you feel at home.\n\n\n\n\n\nInquiries always welcome.  (Note: Worship with Holy Communion is the first and the third Sunday of each month.)\n\n\n\nGrace and Peace.
URL:https://nazarethlutheran.org.au/event/worship-2023-04-09/2030-07-14/
LOCATION:Nazareth Lutheran Church\, 12 Hawthorne Street\, Woolloongabba\, Queensland\, 4102\, Australia
CATEGORIES:Worship
ORGANIZER;CN="Nazareth Lutheran Church":MAILTO:office@nazarethlutheran.org.au
GEO:-27.488695;153.0347074
X-APPLE-STRUCTURED-LOCATION;VALUE=URI;X-ADDRESS=Nazareth Lutheran Church 12 Hawthorne Street Woolloongabba Queensland 4102 Australia;X-APPLE-RADIUS=500;X-TITLE=12 Hawthorne Street:geo:153.0347074,-27.488695
END:VEVENT
BEGIN:VEVENT
DTSTART;TZID=Australia/Brisbane:20300719T103000
DTEND;TZID=Australia/Brisbane:20300719T113000
DTSTAMP:20260423T213128
CREATED:20230316T064828Z
LAST-MODIFIED:20230418T231523Z
UID:10002065-1910687400-1910691000@nazarethlutheran.org.au
SUMMARY:NazCare Worship
DESCRIPTION:This is a private worship conducted by Pastor Chris and a Nazareth Elder\, for residents at Nazcare.
URL:https://nazarethlutheran.org.au/event/nazcare-worship/2030-07-19/
LOCATION:NazCare\, 23 Hawthorne Street\, Woolloongabba\, Qld\, Australia
CATEGORIES:Worship
ORGANIZER;CN="Nazareth Lutheran Church":MAILTO:office@nazarethlutheran.org.au
GEO:-27.4879729;153.0343353
X-APPLE-STRUCTURED-LOCATION;VALUE=URI;X-ADDRESS=NazCare 23 Hawthorne Street Woolloongabba Qld Australia;X-APPLE-RADIUS=500;X-TITLE=23 Hawthorne Street:geo:153.0343353,-27.4879729
END:VEVENT
END:VCALENDAR