BEGIN:VCALENDAR
VERSION:2.0
PRODID:-//Nazareth Lutheran Church South Brisbane Qld - ECPv6.8.1//NONSGML v1.0//EN
CALSCALE:GREGORIAN
METHOD:PUBLISH
X-ORIGINAL-URL:https://nazarethlutheran.org.au
X-WR-CALDESC:Events for Nazareth Lutheran Church South Brisbane Qld
REFRESH-INTERVAL;VALUE=DURATION:PT1H
X-Robots-Tag:noindex
X-PUBLISHED-TTL:PT1H
BEGIN:VTIMEZONE
TZID:Australia/Brisbane
BEGIN:STANDARD
TZOFFSETFROM:+1000
TZOFFSETTO:+1000
TZNAME:AEST
DTSTART:20260101T000000
END:STANDARD
END:VTIMEZONE
BEGIN:VEVENT
DTSTART;TZID=Australia/Brisbane:20260221T100000
DTEND;TZID=Australia/Brisbane:20260221T120000
DTSTAMP:20260425T042800
CREATED:20251128T015110Z
LAST-MODIFIED:20251217T020515Z
UID:10002090-1771668000-1771675200@nazarethlutheran.org.au
SUMMARY:Nazareth's Spiritual Book Club resumes 21/2/2026 reading "Oscar and Lucinda" by Peter Carey
DESCRIPTION:Pop “Oscar and Lucinda” by Peter Carey on your Christmas list for a great summer read – we’ll be discussing it at our first Spiritual Book Club for 2026! Details below
URL:https://nazarethlutheran.org.au/event/nazareths-spiritual-book-club-resumes-14-2-2026-reading-oscar-and-lucinda-by-peter-carey/
LOCATION:Nazareth Hall (downstairs)\, 12 Hawthorne Street\, Woolloongabba\, Queensland\, 4102\, Australia
CATEGORIES:Activities,Fellowship,Meetings,Social Events
ORGANIZER;CN="Nazareth Lutheran Church":MAILTO:office@nazarethlutheran.org.au
GEO:-27.488695;153.0347074
X-APPLE-STRUCTURED-LOCATION;VALUE=URI;X-ADDRESS=Nazareth Hall (downstairs) 12 Hawthorne Street Woolloongabba Queensland 4102 Australia;X-APPLE-RADIUS=500;X-TITLE=12 Hawthorne Street:geo:153.0347074,-27.488695
END:VEVENT
END:VCALENDAR