BEGIN:VCALENDAR
VERSION:2.0
PRODID:-//Nazareth Lutheran Church South Brisbane Qld - ECPv6.8.1//NONSGML v1.0//EN
CALSCALE:GREGORIAN
METHOD:PUBLISH
X-ORIGINAL-URL:https://nazarethlutheran.org.au
X-WR-CALDESC:Events for Nazareth Lutheran Church South Brisbane Qld
REFRESH-INTERVAL;VALUE=DURATION:PT1H
X-Robots-Tag:noindex
X-PUBLISHED-TTL:PT1H
BEGIN:VTIMEZONE
TZID:Australia/Brisbane
BEGIN:STANDARD
TZOFFSETFROM:+1000
TZOFFSETTO:+1000
TZNAME:AEST
DTSTART:20260101T000000
END:STANDARD
END:VTIMEZONE
BEGIN:VEVENT
DTSTART;TZID=Australia/Brisbane:20260218T134500
DTEND;TZID=Australia/Brisbane:20260218T144500
DTSTAMP:20260425T012005
CREATED:20260129T055259Z
LAST-MODIFIED:20260322T234956Z
UID:10002093-1771422300-1771425900@nazarethlutheran.org.au
SUMMARY:Wednesday Bible Study with Pastor Chris
DESCRIPTION:Join Pastor Chris at 1:45pm each Wednesday in the Vestry (in the Admin building behind our Church) for Bible Study. \nWhen you arrive you’ll be welcomed and invited to help yourself to a coffee or tea – then relax and enjoy fellowship with a friendly group of like minded people. \nAges range from 30-70ish. All welcome! \nFebruary 2026-Mid-December 2026. \nKeep your eye on our events diary and our weekly Bulletin (contact us to get on the email list)\, for times when Bible Study is paused (including when Pastor is at Synod and annual Pastor Conference). \nIf you’d like to talk with someone before attending\, just call our office – Rachel is happy to answer your questions and put you in touch with Pastor Chris.
URL:https://nazarethlutheran.org.au/event/wednesday-bible-study-with-pastor-chris/2026-02-18/
LOCATION:Vestry (Admin building)\, 12 Hawthorne Street\, Woolloongabba\, Queensland\, 4102\, Australia
CATEGORIES:Bible study
ORGANIZER;CN="Nazareth Lutheran Church":MAILTO:office@nazarethlutheran.org.au
GEO:-27.488695;153.0347074
X-APPLE-STRUCTURED-LOCATION;VALUE=URI;X-ADDRESS=Vestry (Admin building) 12 Hawthorne Street Woolloongabba Queensland 4102 Australia;X-APPLE-RADIUS=500;X-TITLE=12 Hawthorne Street:geo:153.0347074,-27.488695
END:VEVENT
BEGIN:VEVENT
DTSTART;TZID=Australia/Brisbane:20260218T190000
DTEND;TZID=Australia/Brisbane:20260218T194500
DTSTAMP:20260425T012005
CREATED:20260129T061503Z
LAST-MODIFIED:20260129T061503Z
UID:10002156-1771441200-1771443900@nazarethlutheran.org.au
SUMMARY:Lenten Evening Services beginning on Ash Wednesday 18th February 2026
DESCRIPTION:Lenten services will begin with our Ash Wednesday service on February 18th at 7pm in our Church\, 12 Hawthorne Street\, Woolloongabba. \nParking available. \nMore details about our Lenten Journey to come soon!
URL:https://nazarethlutheran.org.au/event/lenten-evening-services-beginning-on-ash-wednesday-18th-february-2026/2026-02-18/
LOCATION:Nazareth Lutheran Church\, 12 Hawthorne Street\, Woolloongabba\, Queensland\, 4102\, Australia
CATEGORIES:Worship
ORGANIZER;CN="Nazareth Lutheran Church":MAILTO:office@nazarethlutheran.org.au
GEO:-27.488695;153.0347074
X-APPLE-STRUCTURED-LOCATION;VALUE=URI;X-ADDRESS=Nazareth Lutheran Church 12 Hawthorne Street Woolloongabba Queensland 4102 Australia;X-APPLE-RADIUS=500;X-TITLE=12 Hawthorne Street:geo:153.0347074,-27.488695
END:VEVENT
END:VCALENDAR