BEGIN:VCALENDAR
VERSION:2.0
PRODID:-//Nazareth Lutheran Church South Brisbane Qld - ECPv6.8.1//NONSGML v1.0//EN
CALSCALE:GREGORIAN
METHOD:PUBLISH
X-WR-CALNAME:Nazareth Lutheran Church South Brisbane Qld
X-ORIGINAL-URL:https://nazarethlutheran.org.au
X-WR-CALDESC:Events for Nazareth Lutheran Church South Brisbane Qld
REFRESH-INTERVAL;VALUE=DURATION:PT1H
X-Robots-Tag:noindex
X-PUBLISHED-TTL:PT1H
BEGIN:VTIMEZONE
TZID:Australia/Brisbane
BEGIN:STANDARD
TZOFFSETFROM:+1000
TZOFFSETTO:+1000
TZNAME:AEST
DTSTART:20260101T000000
END:STANDARD
END:VTIMEZONE
BEGIN:VEVENT
DTSTART;TZID=Australia/Brisbane:20260216T080000
DTEND;TZID=Australia/Brisbane:20260216T170000
DTSTAMP:20260425T042626
CREATED:20260216T045508Z
LAST-MODIFIED:20260216T045654Z
UID:10002180-1771228800-1771261200@nazarethlutheran.org.au
SUMMARY:Under 40's Group: BBQ on Saturday 21st March 11:30am
DESCRIPTION:Nazareth’s Under 40’s Group is inviting under 40’s members of the congregation and other Lutheran congregations in Brisbane to join them for a BBQ\, on Saturday 21st March\, from 11:30am-3:30pm\, in our outdoor BBQ Area. \nThis is a family friendly event is hosted by Under 40’s Group Coordinator Edwina Peterson. \nPlease RSVP to Edwina by Monday 16th March. \nWe look forward to seeing you!
URL:https://nazarethlutheran.org.au/event/under-40s-group-bbq-on-saturday-21st-march-1130am/
LOCATION:Queensland
CATEGORIES:Activities,Social Events
END:VEVENT
BEGIN:VEVENT
DTSTART;TZID=Australia/Brisbane:20260216T080000
DTEND;TZID=Australia/Brisbane:20260216T170000
DTSTAMP:20260425T042626
CREATED:20260216T060347Z
LAST-MODIFIED:20260226T023958Z
UID:10002181-1771228800-1771261200@nazarethlutheran.org.au
SUMMARY:Nazareth's Spiritual Book Club Meets Saturday 6th June\, 2026 at 10am
DESCRIPTION:Pop “The Widow” by John Grisham on your list for a great read – we’ll be discussing it at our second Spiritual Book Club for 2026! Details below \n 
URL:https://nazarethlutheran.org.au/event/nazareths-spiritual-book-club-meets-saturday-6th-june-2026-at-10am/
LOCATION:Queensland
CATEGORIES:Activities,Fellowship,Social Events
END:VEVENT
END:VCALENDAR